BEGIN:VCALENDAR
VERSION:2.0
PRODID:-//wp-events-plugin.com//7.2.3.1//EN
TZID:Europe/Berlin
X-WR-TIMEZONE:Europe/Berlin
BEGIN:VEVENT
UID:8-3687@frauenbund-winhoering.de
DTSTART;TZID=Europe/Berlin:20231215T143000
DTEND;TZID=Europe/Berlin:20231215T180000
DTSTAMP:20231120T142738Z
URL:https://frauenbund-winhoering.de/termine/adventfeier-mit-rorate-2/
SUMMARY:Adventfeier mit Rorate
DESCRIPTION:Die Adventfeier des KDFB Winhöring findet ab 14.30 Uhr im Cafe
  Kronberger statt. Zum Abschluß gestalten wir um 17.00 Uhr das Rorate in 
 unserer Pfarrkirche
CATEGORIES:Frauenbund Winhöring
LOCATION:\, \, 
X-APPLE-STRUCTURED-LOCATION;VALUE=URI;X-ADDRESS=\, ;X-APPLE-RADIUS=100;X-TI
 TLE=:geo:0,0
END:VEVENT
BEGIN:VTIMEZONE
TZID:Europe/Berlin
X-LIC-LOCATION:Europe/Berlin
BEGIN:STANDARD
DTSTART:20231029T020000
TZOFFSETFROM:+0200
TZOFFSETTO:+0100
TZNAME:CET
END:STANDARD
END:VTIMEZONE
END:VCALENDAR