BEGIN:VCALENDAR
VERSION:2.0
PRODID:-//wp-events-plugin.com//7.2.3.1//EN
TZID:Europe/Berlin
X-WR-TIMEZONE:Europe/Berlin
BEGIN:VEVENT
UID:8-3307@frauenbund-winhoering.de
DTSTART;TZID=Europe/Berlin:20221216T143000
DTEND;TZID=Europe/Berlin:20221216T180000
DTSTAMP:20220830T171920Z
URL:https://frauenbund-winhoering.de/termine/adventsfeier-mit-rorate/
SUMMARY:Adventsfeier mit Rorate
DESCRIPTION:Die Adventsfeier des Frauenbundes findet im Cafe Kronberger sta
 tt. Beginn: 14.30 Uhr\nDer Abschluss findet wieder mit dem Rorate in der P
 farrkirche statt\, Beginn: 17.00 Uhr
CATEGORIES:Frauenbund Winhöring
LOCATION:\, \, 
X-APPLE-STRUCTURED-LOCATION;VALUE=URI;X-ADDRESS=\, ;X-APPLE-RADIUS=100;X-TI
 TLE=:geo:0,0
END:VEVENT
BEGIN:VTIMEZONE
TZID:Europe/Berlin
X-LIC-LOCATION:Europe/Berlin
BEGIN:STANDARD
DTSTART:20221030T020000
TZOFFSETFROM:+0200
TZOFFSETTO:+0100
TZNAME:CET
END:STANDARD
END:VTIMEZONE
END:VCALENDAR