BEGIN:VCALENDAR
VERSION:2.0
PRODID:-//wp-events-plugin.com//7.2.3.1//EN
TZID:Europe/Berlin
X-WR-TIMEZONE:Europe/Berlin
BEGIN:VEVENT
UID:8-2267@frauenbund-winhoering.de
DTSTART;TZID=Europe/Berlin:20181127T083000
DTEND;TZID=Europe/Berlin:20181127T180000
DTSTAMP:20180922T153027Z
URL:https://frauenbund-winhoering.de/termine/adventskranzbinden-2018-11-27
 /
SUMMARY:Adventskranzbinden
DESCRIPTION:Binden von Adventskränzen zum Verkauf am Adventsmarkt\n\nTägl
 ich von 8.30 Uhr bis 18.00 Uhr im Bastelraum des alten Pfarrhofes\n\nJede 
 Hand wird gebraucht\, zum Binden\, aber auch zum Schneiden oder Schmücken
 !\n\n&nbsp\;
CATEGORIES:Frauenbund Winhöring
LOCATION:\, \, 
GEO:48.2576477;12.663705400000026
X-APPLE-STRUCTURED-LOCATION;VALUE=URI;X-ADDRESS=\, ;X-APPLE-RADIUS=100;X-TI
 TLE=:geo:48.2576477,12.663705400000026
END:VEVENT
BEGIN:VTIMEZONE
TZID:Europe/Berlin
X-LIC-LOCATION:Europe/Berlin
BEGIN:STANDARD
DTSTART:20181028T020000
TZOFFSETFROM:+0200
TZOFFSETTO:+0100
TZNAME:CET
END:STANDARD
END:VTIMEZONE
END:VCALENDAR