BEGIN:VCALENDAR
VERSION:2.0
PRODID:-//wp-events-plugin.com//7.2.3.1//EN
TZID:Europe/Berlin
X-WR-TIMEZONE:Europe/Berlin
BEGIN:VEVENT
UID:8-3021@frauenbund-winhoering.de
DTSTART;TZID=Europe/Berlin:20200116T190000
DTEND;TZID=Europe/Berlin:20200116T210000
DTSTAMP:20200102T162204Z
URL:https://frauenbund-winhoering.de/termine/die-muetter-des-grundgesetzes
 -bewegen-uns-auch-heute-noch/
SUMMARY:Die „Mütter des Grundgesetzes“ bewegen uns auch heute noch
DESCRIPTION:Bildungsrendevous des Dekanates Altötting\n\nReferentin: Dr. E
 lfriede Schießleder\n\n19.00 Uhr              Klösterl Neu
 ötting\n\nAnmeldung bitte bei Eva Wick\, Tel 882788
CATEGORIES:Dekanat,Frauenbund Winhöring
LOCATION:\, \, 
X-APPLE-STRUCTURED-LOCATION;VALUE=URI;X-ADDRESS=\, ;X-APPLE-RADIUS=100;X-TI
 TLE=:geo:0,0
END:VEVENT
BEGIN:VTIMEZONE
TZID:Europe/Berlin
X-LIC-LOCATION:Europe/Berlin
BEGIN:STANDARD
DTSTART:20191027T020000
TZOFFSETFROM:+0200
TZOFFSETTO:+0100
TZNAME:CET
END:STANDARD
END:VTIMEZONE
END:VCALENDAR