BEGIN:VCALENDAR
VERSION:2.0
PRODID:-//wp-events-plugin.com//7.2.3.1//EN
TZID:Europe/Berlin
X-WR-TIMEZONE:Europe/Berlin
BEGIN:VEVENT
UID:8-633@frauenbund-winhoering.de
DTSTART;TZID=Europe/Berlin:20160917T173000
DTEND;TZID=Europe/Berlin:20160917T200000
DTSTAMP:20160805T071152Z
URL:https://frauenbund-winhoering.de/termine/fusswallfahrt-nach-altoetting
 /
SUMMARY:Fußwallfahrt nach Altötting
DESCRIPTION:Abmarsch um 17.30 Uhr am Priestergrab\n\nGottesdienst um 19.30 
 Uhr in St. Magdalena Altötting
CATEGORIES:Frauenbund Winhöring
END:VEVENT
BEGIN:VTIMEZONE
TZID:Europe/Berlin
X-LIC-LOCATION:Europe/Berlin
BEGIN:DAYLIGHT
DTSTART:20160327T030000
TZOFFSETFROM:+0100
TZOFFSETTO:+0200
TZNAME:CEST
END:DAYLIGHT
END:VTIMEZONE
END:VCALENDAR