BEGIN:VCALENDAR
VERSION:2.0
PRODID:-//wp-events-plugin.com//7.2.3.1//EN
TZID:Europe/Berlin
X-WR-TIMEZONE:Europe/Berlin
BEGIN:VEVENT
UID:8-3728@frauenbund-winhoering.de
DTSTART;TZID=Europe/Berlin:20240312T140000
DTEND;TZID=Europe/Berlin:20240312T160000
DTSTAMP:20240103T132629Z
URL:https://frauenbund-winhoering.de/termine/landfrauentag-halsbach-3/
SUMMARY:Landfrauentag Halsbach
DESCRIPTION:Am Dienstag\, 12. März findet in Halsbach der Landfrauentag st
 att. \nThema: Frauen in der Bibel - Gottes starke Töchter oder willige Di
 enerinnen?\nReferentin: Dr. Elfriede Schießleder\nGenauere Informationen 
 folgen
CATEGORIES:Dekanat,Frauenbund Winhöring
LOCATION:\, \, 
X-APPLE-STRUCTURED-LOCATION;VALUE=URI;X-ADDRESS=\, ;X-APPLE-RADIUS=100;X-TI
 TLE=:geo:0,0
END:VEVENT
BEGIN:VTIMEZONE
TZID:Europe/Berlin
X-LIC-LOCATION:Europe/Berlin
BEGIN:STANDARD
DTSTART:20231029T020000
TZOFFSETFROM:+0200
TZOFFSETTO:+0100
TZNAME:CET
END:STANDARD
END:VTIMEZONE
END:VCALENDAR