BEGIN:VCALENDAR
VERSION:2.0
PRODID:-//wp-events-plugin.com//7.2.3.1//EN
TZID:Europe/Berlin
X-WR-TIMEZONE:Europe/Berlin
BEGIN:VEVENT
UID:8-344@frauenbund-winhoering.de
DTSTART;TZID=Europe/Berlin:20160308T140000
DTEND;TZID=Europe/Berlin:20160308T163000
DTSTAMP:20151215T194306Z
URL:https://frauenbund-winhoering.de/termine/landfrauentag-halsbach/
SUMMARY:Landfrauentag Halsbach
DESCRIPTION:Am Dienstag 8. März 2016 findet beim Mitterwirt in Halsbach de
 r Landfrauentag des Dekanats Altötting statt. Beginn ist um 14 Uhr.\n\nDa
 s Thema heißt dieses Mal: Märchen im Leben einer Frau. Als Referentin ko
 mmt die Wildkräuter- und Märchenpädagogin Frau Edeltraud Forster aus W
 örth an der Donau zu  uns. Sie will uns an diesem Nachmittag auf eine M
 ärchenreise durch das Leben einer Frau mitnehmen\; von der jungen Unerfah
 renen über die klug und tolerant Gewordene bis zur weisen Alten.\n\nEs is
 t lebensnotwendig sich immer mal wieder Zeit zu nehmen und aus dieser Welt
  hinaus zugehen\, hinein in das Reich der Träume\, Märchen und Geschicht
 en. Wie sonst kommt die Seele zu ihrer Nahrung?\nJeder Tag deckt uns zu mi
 t Informationen\, mit Anforderungen und Sorgen. Wie atmet die Seele auf\, 
 wie dehnt sie sich aus wie beginnt sie zu leuchten wenn ihr erzählt wird:
  Es war einmal.......\, es war einmal eine/einer der sich aufmachte um sei
 n Glück zu suchen. Und....die/der es auch gefunden hat.\nJa\, sagen wir\,
  das sind nur Märchen\, die Wirklichkeit sieht anders aus\, aber wenn wir
  nicht an das gute Ende glauben\, wie sollte es dann kommen.
ATTACH;FMTTYPE=image/jpeg:https://frauenbund-aicha-vorm-wald.de/frauenbund
 -winhoering/wp-content/uploads/sites/8/2015/12/Edeltraud-Forster.png
CATEGORIES:Dekanat,Frauenbund Winhöring
LOCATION:\, \, 
GEO:48.12633;12.677030000000058
X-APPLE-STRUCTURED-LOCATION;VALUE=URI;X-ADDRESS=\, ;X-APPLE-RADIUS=100;X-TI
 TLE=:geo:48.12633,12.677030000000058
END:VEVENT
BEGIN:VTIMEZONE
TZID:Europe/Berlin
X-LIC-LOCATION:Europe/Berlin
BEGIN:STANDARD
DTSTART:20151025T020000
TZOFFSETFROM:+0200
TZOFFSETTO:+0100
TZNAME:CET
END:STANDARD
END:VTIMEZONE
END:VCALENDAR