BEGIN:VCALENDAR
VERSION:2.0
PRODID:-//wp-events-plugin.com//7.2.3.1//EN
TZID:Europe/Berlin
X-WR-TIMEZONE:Europe/Berlin
BEGIN:VEVENT
UID:8-3026@frauenbund-winhoering.de
DTSTART;TZID=Europe/Berlin:20200317T133000
DTEND;TZID=Europe/Berlin:20200317T160000
DTSTAMP:20200314T145503Z
URL:https://frauenbund-winhoering.de/termine/landfrauentag-in-halsbach-2/
SUMMARY:Landfrauentag in Halsbach - abgesagt
DESCRIPTION:Thema: In der Liebe wachsen\n\nReferentin: Theresia Hofbauer\, 
 Passau\n\nGebühr: 2 €
CATEGORIES:Dekanat,Frauenbund Winhöring
LOCATION:\, \, 
GEO:48.12633;12.677030000000059
X-APPLE-STRUCTURED-LOCATION;VALUE=URI;X-ADDRESS=\, ;X-APPLE-RADIUS=100;X-TI
 TLE=:geo:48.12633,12.677030000000059
END:VEVENT
BEGIN:VTIMEZONE
TZID:Europe/Berlin
X-LIC-LOCATION:Europe/Berlin
BEGIN:STANDARD
DTSTART:20191027T020000
TZOFFSETFROM:+0200
TZOFFSETTO:+0100
TZNAME:CET
END:STANDARD
END:VTIMEZONE
END:VCALENDAR