BEGIN:VCALENDAR
VERSION:2.0
PRODID:-//wp-events-plugin.com//7.2.3.1//EN
TZID:Europe/Berlin
X-WR-TIMEZONE:Europe/Berlin
BEGIN:VEVENT
UID:8-343@frauenbund-winhoering.de
DTSTART;TZID=Europe/Berlin;VALUE=DATE:20160218
DTEND;TZID=Europe/Berlin;VALUE=DATE:20160219
DTSTAMP:20151215T221443Z
URL:https://frauenbund-winhoering.de/termine/landfrauentag-niederaltaich/
SUMMARY:Landfrauentag Niederalteich
DESCRIPTION:Landfrauentag des Dekanats Altötting am 18. Februar in Niedera
 lteich\n\nThema: Verstehen kann man das Leben nur rückwärts - Leben muss
  man aber vorwärts\n\nBusabfahrt: 7.40 Uhr Raiffeisen Winhöring bzw. 7.5
 0 Uhr Lagerhaus Wald\n\nAnmeldung bei Monika Naglmeier.\n\n&nbsp\;\n\n&nbs
 p\;
CATEGORIES:Dekanat,Frauenbund Winhöring
END:VEVENT
BEGIN:VTIMEZONE
TZID:Europe/Berlin
X-LIC-LOCATION:Europe/Berlin
BEGIN:STANDARD
DTSTART:20151025T020000
TZOFFSETFROM:+0200
TZOFFSETTO:+0100
TZNAME:CET
END:STANDARD
END:VTIMEZONE
END:VCALENDAR