BEGIN:VCALENDAR
VERSION:2.0
PRODID:-//wp-events-plugin.com//7.2.3.1//EN
TZID:Europe/Berlin
X-WR-TIMEZONE:Europe/Berlin
BEGIN:VEVENT
UID:8-3348@frauenbund-winhoering.de
DTSTART;TZID=Europe/Berlin:20221117T193000
DTEND;TZID=Europe/Berlin:20221117T210000
DTSTAMP:20220926T181239Z
URL:https://frauenbund-winhoering.de/termine/literaturkreis-14/
SUMMARY:Literaturkreis
DESCRIPTION:Die Teilnehmerinnen des Literaturkreises beteiligen sich am Sch
 mökerabend in der Bücherei\nReferentin: Gertraud Munt\nDonnerstag\, 17. 
 November um 19.30 Uhr in der Gemeindebücherei Winhöring\n\nInfos bei Bar
 bara Jüngling oder in der Bücherei Winhöring 08671-72553\n\nIn Zusammen
 arbeit mit der KEB Rottal-INN-Salzach
CATEGORIES:Frauenbund Winhöring
LOCATION:\, \, 
X-APPLE-STRUCTURED-LOCATION;VALUE=URI;X-ADDRESS=\, ;X-APPLE-RADIUS=100;X-TI
 TLE=:geo:0,0
END:VEVENT
BEGIN:VTIMEZONE
TZID:Europe/Berlin
X-LIC-LOCATION:Europe/Berlin
BEGIN:STANDARD
DTSTART:20221030T020000
TZOFFSETFROM:+0200
TZOFFSETTO:+0100
TZNAME:CET
END:STANDARD
END:VTIMEZONE
END:VCALENDAR