BEGIN:VCALENDAR
VERSION:2.0
PRODID:-//wp-events-plugin.com//7.2.3.1//EN
TZID:Europe/Berlin
X-WR-TIMEZONE:Europe/Berlin
BEGIN:VEVENT
UID:8-3228@frauenbund-winhoering.de
DTSTART;TZID=Europe/Berlin:20220721T190000
DTEND;TZID=Europe/Berlin:20220721T210000
DTSTAMP:20220220T174406Z
URL:https://frauenbund-winhoering.de/termine/magdalenafeier-mit-ehrung-der
 -jubilarinnen-2/
SUMMARY:Magdalenafeier mit Ehrung der Jubilarinnen
DESCRIPTION:19.00 Uhr	Gottesdienst mit Ehrung unserer Jubilarinnen\nanschli
 eßend	Stehempfang im Pfarrhof\n
CATEGORIES:Frauenbund Winhöring
LOCATION:\, \, 
GEO:48.2657592;12.650287599999956
X-APPLE-STRUCTURED-LOCATION;VALUE=URI;X-ADDRESS=\, ;X-APPLE-RADIUS=100;X-TI
 TLE=:geo:48.2657592,12.650287599999956
END:VEVENT
BEGIN:VTIMEZONE
TZID:Europe/Berlin
X-LIC-LOCATION:Europe/Berlin
BEGIN:DAYLIGHT
DTSTART:20220327T030000
TZOFFSETFROM:+0100
TZOFFSETTO:+0200
TZNAME:CEST
END:DAYLIGHT
END:VTIMEZONE
END:VCALENDAR