BEGIN:VCALENDAR
VERSION:2.0
PRODID:-//wp-events-plugin.com//7.2.3.1//EN
TZID:Europe/Berlin
X-WR-TIMEZONE:Europe/Berlin
BEGIN:VEVENT
UID:8-3936@frauenbund-winhoering.de
DTSTART;TZID=Europe/Berlin:20241012T140000
DTEND;TZID=Europe/Berlin:20241012T160000
DTSTAMP:20240924T172747Z
URL:https://frauenbund-winhoering.de/termine/meditative-wanderung-3/
SUMMARY:meditative Wanderung
DESCRIPTION:Start 14.00 Uhr in Aufham\nReferentinnen: Barbara Unterstaller 
 und Anne Lindner
CATEGORIES:Frauenbund Winhöring
END:VEVENT
BEGIN:VTIMEZONE
TZID:Europe/Berlin
X-LIC-LOCATION:Europe/Berlin
BEGIN:DAYLIGHT
DTSTART:20240331T030000
TZOFFSETFROM:+0100
TZOFFSETTO:+0200
TZNAME:CEST
END:DAYLIGHT
END:VTIMEZONE
END:VCALENDAR