BEGIN:VCALENDAR
VERSION:2.0
PRODID:-//wp-events-plugin.com//7.2.3.1//EN
TZID:Europe/Berlin
X-WR-TIMEZONE:Europe/Berlin
BEGIN:VEVENT
UID:8-2782@frauenbund-winhoering.de
DTSTART;TZID=Europe/Berlin:20191203T193000
DTEND;TZID=Europe/Berlin:20191203T210000
DTSTAMP:20190728T150336Z
URL:https://frauenbund-winhoering.de/termine/meditatives-kreistanzen-licht
 ertaenze-3/
SUMMARY:meditatives Kreistanzen - Lichtertänze
DESCRIPTION:Alle Mitglieder sind eingeladen\, Vorkenntnisse nicht notwendig
 \n\nReferentin: Frau Brigitte Haas\, Neuötting\n\nMitveranstalter: KEB
CATEGORIES:Frauenbund Winhöring
LOCATION:\, \, 
X-APPLE-STRUCTURED-LOCATION;VALUE=URI;X-ADDRESS=\, ;X-APPLE-RADIUS=100;X-TI
 TLE=:geo:0,0
END:VEVENT
BEGIN:VTIMEZONE
TZID:Europe/Berlin
X-LIC-LOCATION:Europe/Berlin
BEGIN:STANDARD
DTSTART:20191027T020000
TZOFFSETFROM:+0200
TZOFFSETTO:+0100
TZNAME:CET
END:STANDARD
END:VTIMEZONE
END:VCALENDAR