BEGIN:VCALENDAR
VERSION:2.0
PRODID:-//wp-events-plugin.com//7.2.3.1//EN
TZID:Europe/Berlin
X-WR-TIMEZONE:Europe/Berlin
BEGIN:VEVENT
UID:8-649@frauenbund-winhoering.de
DTSTART;TZID=Europe/Berlin;VALUE=DATE:20161012
DTEND;TZID=Europe/Berlin;VALUE=DATE:20161013
DTSTAMP:20160805T082543Z
URL:https://frauenbund-winhoering.de/termine/sing-mit-tag/
SUMMARY:Sing-mit-Tag
DESCRIPTION:im Haus der Begegnung Burghausen.\n\nFür alle Frauen \, die ge
 rne singen.
CATEGORIES:Frauenbund Winhöring,Dekanat
LOCATION:\, \, 
X-APPLE-STRUCTURED-LOCATION;VALUE=URI;X-ADDRESS=\, ;X-APPLE-RADIUS=100;X-TI
 TLE=:geo:0,0
END:VEVENT
BEGIN:VTIMEZONE
TZID:Europe/Berlin
X-LIC-LOCATION:Europe/Berlin
BEGIN:DAYLIGHT
DTSTART:20160327T030000
TZOFFSETFROM:+0100
TZOFFSETTO:+0200
TZNAME:CEST
END:DAYLIGHT
END:VTIMEZONE
END:VCALENDAR