BEGIN:VCALENDAR
VERSION:2.0
PRODID:-//wp-events-plugin.com//7.2.3.1//EN
TZID:Europe/Berlin
X-WR-TIMEZONE:Europe/Berlin
BEGIN:VEVENT
UID:8-367@frauenbund-winhoering.de
DTSTART;TZID=Europe/Berlin;VALUE=DATE:20160802
DTEND;TZID=Europe/Berlin;VALUE=DATE:20160803
DTSTAMP:20151216T204301Z
URL:https://frauenbund-winhoering.de/termine/tagesausflug-nach-hallstadt/
SUMMARY:Tagesausflug nach Hallstadt
DESCRIPTION:Anmeldung bei Eva Wick\, Tel. 88 27 88
CATEGORIES:Frauenbund Winhöring
END:VEVENT
BEGIN:VTIMEZONE
TZID:Europe/Berlin
X-LIC-LOCATION:Europe/Berlin
BEGIN:DAYLIGHT
DTSTART:20160327T030000
TZOFFSETFROM:+0100
TZOFFSETTO:+0200
TZNAME:CEST
END:DAYLIGHT
END:VTIMEZONE
END:VCALENDAR