BEGIN:VCALENDAR
VERSION:2.0
PRODID:-//wp-events-plugin.com//7.2.3.1//EN
TZID:Europe/Berlin
X-WR-TIMEZONE:Europe/Berlin
BEGIN:VEVENT
UID:8-641@frauenbund-winhoering.de
DTSTART;TZID=Europe/Berlin:20161026T190000
DTEND;TZID=Europe/Berlin:20161026T210000
DTSTAMP:20160805T073445Z
URL:https://frauenbund-winhoering.de/termine/vortrag-waeschepflege-aktuell
 -waschen-sie-noch-zeitgemaess/
SUMMARY:Vortrag: "Wäschepflege aktuell - Waschen Sie noch zeitgemäß?"
DESCRIPTION:Referentin: Frau Marianne Wolff\, VSB Passau
CATEGORIES:Frauenbund Winhöring
LOCATION:\, \, 
GEO:48.26606;12.652900000000045
X-APPLE-STRUCTURED-LOCATION;VALUE=URI;X-ADDRESS=\, ;X-APPLE-RADIUS=100;X-TI
 TLE=:geo:48.26606,12.652900000000045
END:VEVENT
BEGIN:VTIMEZONE
TZID:Europe/Berlin
X-LIC-LOCATION:Europe/Berlin
BEGIN:DAYLIGHT
DTSTART:20160327T030000
TZOFFSETFROM:+0100
TZOFFSETTO:+0200
TZNAME:CEST
END:DAYLIGHT
END:VTIMEZONE
END:VCALENDAR