BEGIN:VCALENDAR
VERSION:2.0
PRODID:-//wp-events-plugin.com//7.2.3.1//EN
TZID:Europe/Berlin
X-WR-TIMEZONE:Europe/Berlin
BEGIN:VEVENT
UID:8-3125@frauenbund-winhoering.de
DTSTART;TZID=Europe/Berlin:20201001T140000
DTEND;TZID=Europe/Berlin:20201001T160000
DTSTAMP:20200925T091529Z
URL:https://frauenbund-winhoering.de/termine/waldspaziergang-2/
SUMMARY:Waldspaziergang
DESCRIPTION:Nachholtermin von Mai 2020\n\nTreffpunkt um 14 Uhr am Sägewerk
  Seemann in Aufham\, wir wandern gemeinsam mit Försterin Christine Zahnbr
 echer in der nahen Wald. Sie wird uns Wissenswertes erzählen und gerne un
 sere Fragen beantworten.\n\nFalls möglich\, bitte mit dem Fahrrad kommen.
  Wir sammeln schließlich in dieser Woche Radkilometer!!!!
CATEGORIES:Frauenbund Winhöring
LOCATION:\, \, 
X-APPLE-STRUCTURED-LOCATION;VALUE=URI;X-ADDRESS=\, ;X-APPLE-RADIUS=100;X-TI
 TLE=:geo:0,0
END:VEVENT
BEGIN:VTIMEZONE
TZID:Europe/Berlin
X-LIC-LOCATION:Europe/Berlin
BEGIN:DAYLIGHT
DTSTART:20200329T030000
TZOFFSETFROM:+0100
TZOFFSETTO:+0200
TZNAME:CEST
END:DAYLIGHT
END:VTIMEZONE
END:VCALENDAR